Workbook
Name distlist: 'Purchase request form'!distributorlist
Name distlist: 'Traveler Info'!distributorlist
Name distlist: distributorlist
Name distributorlist: Table5[Searchable_List]
Name distributorlist: Table5[Searchable_List]
Name distributorlist: Table5[Searchable_List]
Name JAellerNEI: Lists!$A$34:$A$35
Name Leverandør: Distributors!$A$8:$A$106
Name Seksjon: Lists!$A$25:$A$31
Name Sted: Lists!$A$2:$A$22
Name Valuta: Lists!$A$39:$A$47
Name YESellerNO: Table4[YESellerNO]
Name YESellerNO: Table4[YESellerNO]

Sheet INFORMATION
A1: Information
A2: Here you will find an overview of agreement suppliers and links to additional documentation where required.
A3: Links to forms | D3: Required attachments / additional documentation
A4: Bestillingsskjema | D4: Are you ordering… | F4: Required attachments | I4: Notes
A5: Purchase request form | D5: Purchase of an offer | F5: Offer / quote (as a pdf or email)
A6: Participant list | D6: Sending a package | F6: Contents description | I6: Link to letter templates
A7: Traveler Info | D7: Food / Drink | F7: "Participant list" sheet | I7: For open arrangements / section gatherings a list of names is not required but please make a note of the arrangement type in the "Attendees" field in the "Participant list".
A8: Car Rental Form
A9: Distributors
D10: Travel | F10: See uio.no for details | I10: "Traveler info" sheet
D11: Car Rental | F11: Car Rental Form
A12: Framework aggreements
A13: Agreement catalogue (via "Administrasjon" in Programkiosk)
A14: Where a desired product / service is provided by an agreement partner, that / those partner/s must be used.
A15: Good / Service type | B15: Supplier | G15: Notes | O15: Valid to
A16: Printing services | B16: 07 Media AS | O16: 44810
A17: Shipping / Freight | B17: Airsped | C17: World Courier | G17: Airsped for the most. World Courier spesialises in particularly vulnerable / high value items | O17: 44713
A18: Office furniture (incl. offices, meeting / teaching / study / break rooms, kitchen etc) | B18: EFG Hov Dokka AS | C18: Martela AS | D18: Rom for Flere Oslo AS | E18: Senab Eikeland Øst AS | O18: 44561
A19: Office consumables | B19: Staples | O19: 44682
A20: Food / Drink (catering) | B20: Elvebredden | C20: Gastro Catering | G20: SiO Mat og Drikke (e.g. Deilig) can be used when eating at one of their locations. | O20: 44319
A21: Food / Drink (overtime food) | B21: Dominos (pizza) | C21: Spice (non pizza) | O21: 44796
A22: Travel (Flights, hotel & car) | B22: Berg-Hansen* | C22: Egencia | D22: *See UiO website for details | G22: Use Egencia for booking flights, rail, car rental and hotels in connection with travel.
A23: Rental Car | B23: Interrent (Europcar) | C23: Hertz | G23: For car rental not connected with flights. See "Car Rental Form" sheet. | O23: 44864
A24: Books | B24: VB-Bok (Akademika) | O24: 46022
A25: Gass | B25: Nippon Gases Norge | O25: 44788
A26: Lab wares
A27: - Laboratory glass and plastics to reuse (incl. single-use glassware) | B27: Heco | C27: Saveen & Werner | D27: VWR | O27: 44712
A28: - Microscopy and histology wares | B28: Fisher | C28: Heco | O28: 44712
A29: - Filters to laboratories | B29: Merck Life Sciences | O29: 44712
A30: - Diverse single-use plastics to laboratories | B30: Sarstedt | C30: VWR | O30: 44712
A31: - PCR wares | B31: Heco | C31: Life Technologies | D31: Sarstedt | E31: VWR | O31: 44712
A32: - Diverse laboratory products (NOT plastic / glass) | B32: Fisher | C32: VWR | O32: 44712
A33: - Cell culturing products | B33: Sarstedt | C33: Saveen & Werner | D33: VWR | O33: 44712
A34: - Personal protection equipment (laboratories) | B34: VWR | O34: 44712
A35: - Pipette tips | B35: Mettler Toledo | C35: Sarstedt | D35: Saveen & Werner | E35: VWR | G35: Refer to the table below for an overview of pipette tip producers and suppliers. | O35: 44550
A36: Chemicals
A37: - Serum to cell culturing | B37: BioNordika | C37: Life Technologies | D37: Saveen & Werner | E37: Merck Life Sciences | F37: VWR | G37: Orders over kr 12,000 (ex. VAT) must be published to all agreement suppliers. Take contact with the purchasing office in this case. | O37: 44347
A38: - Chemicals to culturing and harvesting of eukaryote cells | B38: BioNordika | C38: Life Technologies | D38: Merck Life Sciences | O38: 44347
A39: - Chemicals to culturing and harvesting of microorganisms | B39: Life Technologies | C39: Thermofisher Diagnostics | D39: VWR | O39: 44347
A42: The following suppliers have small-order fees
...

Sheet Bestillingsskjema
E1: Best.nr.
B2: KJØPSANMODNING | E2: Bestilt dato:
E3: Bestiller:
E4: (Fylles inn av bestillingskontoret)
A6: På denne kjøpsanmodning formidler du ditt behov. Bestilling vil bli sendt til leverandør etter godkjenning av person med budsjettdisponeringsmyndighet. Ufullstendig utfylt skjema returneres.
A8: Ditt navn
A9: Telefon
A10: E-post adresse
A12: Kjemikalier bestilling? | C12: JA / NEI
A13: Må fylles ut ved kjøp av kjemikalier | B13: Seksjon: | C13: ↓
B14: Romnummer hvor er/skal kjemikaliet lagres:
B15: Er kjemikalier registrert i ECOonline? | D15: =IF(C15="NEI", "Hører med din lokale HMS-ingeniør", "")
B16: Er kjemikalier riskovurdert? | D16: =IF(C16="NEI", "Hører med din lokale HMS-ingeniør", "")
B17: =IF(C16="JA", "Oppgi SOP referanse?","")
A19: Spesifikasjon av vare eller tjeneste
A20: Fyll ut vare eller tjeneste som skal bestilles i rubrikken nedenfor. Vennligst spesifiser stykk pris (eks. moms), antall og valuta (bruk leverandør sin valuta). Øvrig merknader kan skrives i feltet nedenfor.
A21: Artikkel-/varenr. /annen ref.nr. | B21: Produkt beskrivelse | C21: Leverandør | D21: Stykkpris (eks moms) | E21: Antall | F21: Anslått Sum Pris | G21: Valuta
F22: =D22*E22 -> 0 | G22: NOK
F23: =D23*E23 -> 0 | G23: NOK
F24: =D24*E24 -> 0 | G24: NOK
F25: =D25*E25 -> 0 | G25: NOK
F26: =D26*E26 -> 0 | G26: NOK
F27: =D27*E27 -> 0 | G27: NOK
F28: =D28*E28 -> 0 | G28: NOK
F29: =D29*E29 -> 0 | G29: NOK
F30: =D30*E30 -> 0 | G30: NOK
F31: =D31*E31 -> 0 | G31: NOK
F32: =D32*E32 -> 0 | G32: NOK
F33: =D33*E33 -> 0 | G33: NOK
... F35: =D35*E35 -> 0 | G35: NOK
E36: Antatt totalbeløp eks. mva. | F36: =SUBTOTAL(9,Bestillingsskjema!$F$22:$F$35) -> 0
A38: Øvrig merknader til bestillingen:
A39: (Eventuell dokumentasjon for eksempel tilbud, vedlegges anmodningen. Ved bestilling av mat/drikke skal det legges ved en deltakerliste (se "Participant list" ark).
A45: Kontering | C45: Påkrevd dokumentasjon
A46: Koststed | C46: Bestilling av en tilbud: | D46: Tilbud (pdf eller epost)
A47: Delprosjekt | C47: Pakke forsendelse: | D47: "Contents description" brev
A48: Kontonavn | C48: Bevertning: | D48: Deltagerliste ("Participant list" ark)
A49: Prosjektleder | C49: Leiebil: | D49: Car Rental Form
A51: Jeg bekrefter jeg har bestillerrettigheter for overnevnt kontostreng | D51: Send inn Husk å lagre og legge ved skjemaet
A52: Dato:
...

Sheet Purchase request form
E1: Best.nr.
B2: Purchase request form | E2: Bestilt dato:
E3: Bestiller:
E4: (Office use only)
A6: Use this form to communicate your needs. Orders will be sent to the appropriate supplier following approval from the budjet responsible. Incomplete forms will be returned.
A8: Your name
A9: Telephone
A10: Email address
A12: Are you requesting chemicals? | C12: YES / NO ↓
A13: Must be filled out when ordering chemicals | B13: Section | C13: ↓
B14: Room number where chemicals are to be stored:
B15: Is the chemical registered in ECOonline? | C15: ↓ | D15: =IF(C15="NEI", "Hører med din lokale HMS-ingeniør", "")
B16: Is the chemical risk assessed? | C16: ↓ | D16: =IF(C16="NEI", "Hører med din lokale HMS-ingeniør", "")
B17: =IF(C16="Yes", "Please specify SOP","")
A19: Specification of goods / services.
A20: Fill in goods or services desired in the form below. Please specify supplier, unit price (ex. VAT), quantity and currency (use currency of the supplier). Additional remarks can be written in the field under the product entries.
A21: Catalogue no. / Other ref. no. | B21: Product description | C21: Supplier | D21: Unit Price (ex. VAT) | E21: Qty | F21: Sub-total (ex. VAT) | G21: Currency
F22: =D22*E22 -> 0 | G22: NOK
F23: =D23*E23 -> 0 | G23: NOK
F24: =D24*E24 -> 0 | G24: NOK
F25: =D25*E25 -> 0 | G25: NOK
F26: =D26*E26 -> 0 | G26: NOK
F27: =D27*E27 -> 0 | G27: NOK
F28: =D28*E28 -> 0 | G28: NOK
F29: =D29*E29 -> 0 | G29: NOK
F30: =D30*E30 -> 0 | G30: NOK
F31: =D31*E31 -> 0 | G31: NOK
F32: =D32*E32 -> 0 | G32: NOK
F33: =D33*E33 -> 0 | G33: NOK
... F35: =D35*E35 -> 0 | G35: NOK
E36: Expected total price ex. VAT. | F36: =SUBTOTAL(9,'Purchase request form'!$F$22:$F$35) -> 0
A38: Additional comments / remarks regarding the order:
A39: (Addtional documentation e.g. quotes / offers, should be attached to this order. When ordering food / catering please fill out the "Participant List" sheet in this file.)
A45: Payment source | C45: Required documentation
A46: Koststed | C46: Purchase of an offer: | D46: Offer / quote (as a pdf or email)
A47: Delprosjekt | C47: Sending a package: | D47: Contents description
A48: Account name | C48: Food / Drink: | D48: "Participant list" sheet
A49: Project leader | C49: Car Rental: | D49: Car Rental Form
A51: I confirm I am authorised to purchase these items using the IBV account supplied | D51: Submit Remember to save and attach form to email.
A52: Date:
...

Sheet Participant list
A1: Participant List.
A3: Please make yourself familiar with the guidelines for hosting and representation at UiO
A5: Event name:
A6: Date: | F6: Tilbake til bestillingsskjema
A7: Time:
A8: Location: | F8: Return to purchase request form
A9: Contact name:
A10: Contact ph.:
A11: Event purpose:
A13: Attendees: | B13: Name | C13: Affiliation | D13: Email Address (if not UiO)

Sheet Traveler Info
A1: Traveler Info.
A3: Full Name (as it appears on your passport): | B3: Family Name:
B4: Given Name/s:
A5: Mobile: | B5: (+47)
A6: Email:
A7: Passport (for international flights):
A8: Passport expiry:
A9: Date of birth (DD.MM.YY)
A10: Nationality:
A12: Outward journey | E12: Tilbake til bestillingsskjema
A13: Airport / Train Station:
A14: Date:
A15: Time: | E15: Return to purchase request form
A16: Desired flight numbers:
A18: Return journey
A19: Airport / Train Station:
A20: Date:
A21: Time:
A22: Desired flight numbers:
A24: Extra notes:

Sheet Car Rental Form
A1: Car Rental Form
A3: Pickup
A4: Location:
A5: Date:
A6: Time | D6: Tilbake til bestillingsskjema
A7: Flight no. (if relevant):
A8: Desired car size / type: | D8: Return to purchase request form
A10: Return
A11: Location:
A12: Date:
A13: Time:
A14: Name of driver:
A15: Driver's licence #:
A16: Contact telephone:
A18: Extra details:

Sheet Distributors
A1: Click here to return to ordering form
A2: Tilbake til bestillingsskjema
A4: Find distributor
A5: Novus | B5: =VLOOKUP(A5,Table5[[manufacturer]:[Distributor]],2,TRUE) -> BioNordika
A7: manufacturer | B7: Distributor | C7: If found | D7: Frequency | E7: Searchable_List | F7: Column1
A8: Biotechne | B8: Biotechne
A9: Tocris | B9: Biotechne
A10: R&D Systems | B10: Biotechne
A11: Novus Biologicals | B11: Biotechne
A12: Cayman | B12: BioNordika
A13: Enzo | B13: AH Diagnostics
A14: Santa Cruz | B14: AH Diagnostics
A15: Takara | B15: AH Diagnostics
A16: Pacific Biosciences (PacBio) | B16: AH Diagnostics
A17: Macherey-Nagel | B17: AH Diagnostics
A18: Cell Signaling | B18: BioNordika
A19: Lonza | B19: BioNordika
... A59: Vecotr Laboratories Inc. | B59: BioNordika
B60: Addgene
B61: VWR
A62: Corning | B62: Sigma-Aldrich
B63: Sigma-Aldrich
A64: Gibco | B64: Life Technologies
A65: Invitrogen | B65: Life Technologies
A66: Thermofisher (chemicals) | B66: Life Technologies
A67: Thermofisher (lab materials) | B67: VWR
A68: Thermofisher (lab materials) | B68: Fisher
A69: GE | B69: VWR
A70: BD | B70: VWR
A71: BD | B71: Puls Medical Devices
B72: Abcam
B73: Abnova
B74: AgnThos AB
B75: Airsped
B76: Arima
B77: Nespresso
B78: Bio-Rad
B79: Bravida
B80: Clas Ohlson
B81: Eurofins Genomics
...

Sheet Lists
A1: Sted | B1: Column1
A2: 15550000 | E2: 152900 | F2: 15550000
A3: 15551000 | E3: 152930 | F3: 15551000
A4: 15551500 | E4: 152940 | F4: 15551500
A5: 15552000 | E5: 152950 | F5: 15552000
A6: 15552500 | E6: 152960 | F6: 15552500
A7: 15553000 | E7: 152970 | F7: 15553000
A8: 15550500 | E8: 152910 | F8: 15550500
A9: 15550505 | E9: 152911 | F9: 15550505
A10: 15550510 | E10: 152912 | F10: 15550510
E11: 152913
A12: 15550515 | E12: 152914 | F12: 15550515
A13: 15550520 | E13: 152915 | F13: 15550520
A14: 15550525 | E14: 152916 | F14: 15550525
A15: 15551005 | E15: 152931 | F15: 15551005
A16: 15551015 | E16: 152933 | F16: 15551015
A17: 15551505 | E17: 152941 | F17: 15551505
A18: 15552005 | E18: 152951 | F18: 15552005
A19: 15552010 | E19: 152952 | F19: 15552010
A20: 15552505 | E20: 152961 | F20: 15552505
A21: 15553005 | E21: 152971 | F21: 15553005
A22: 15553010 | E22: 152972 | F22: 15553010
A24: Seksjon
A25: AKVA
A26: BMB
A27: CEES
A28: EVOGENE
A29: FYSCELL
A30: INFRA
A31: ADM
A33: JAellerNEI | B33: YESellerNO
A34: JA | B34: YES
A35: NEI | B35: NO
A38: Valuta
A39: AUD
A40: CAD
A41: CHF
A42: DEK
A43: EUR
A44: GBP
...

Sheet Ark4
A1: Artikkel-/varenr. | B1: Produkt beskrivelse | C1: Leverandør | D1: Anslått stykkpris | E1: Antall | F1: Pris | G1: Valuta | H1: Koststed | I1: Delprosjekt
A2: =Bestillingsskjema!A22 -> 0 | B2: =Bestillingsskjema!B22 -> 0 | C2: =Bestillingsskjema!#REF! -> #REF! | D2: =Bestillingsskjema!C22 -> 0 | E2: =Bestillingsskjema!D22 -> 0 | F2: =Bestillingsskjema!E22 -> 0 | G2: =Bestillingsskjema!G22 -> NOK | H2: =Bestillingsskjema!B$46 -> 0 | I2: =Bestillingsskjema!B$48 -> 0
A3: =Bestillingsskjema!A24 -> 0 | B3: =Bestillingsskjema!B24 -> 0 | C3: =Bestillingsskjema!#REF! -> #REF! | D3: =Bestillingsskjema!C23 -> 0 | E3: =Bestillingsskjema!D23 -> 0 | F3: =Bestillingsskjema!E23 -> 0 | G3: =Bestillingsskjema!G23 -> NOK | H3: =Bestillingsskjema!B$46 -> 0 | I3: =Bestillingsskjema!B$48 -> 0
A4: =Bestillingsskjema!A25 -> 0 | B4: =Bestillingsskjema!B25 -> 0 | C4: =Bestillingsskjema!#REF! -> #REF! | D4: =Bestillingsskjema!C24 -> 0 | E4: =Bestillingsskjema!D24 -> 0 | F4: =Bestillingsskjema!E24 -> 0 | G4: =Bestillingsskjema!G24 -> NOK | H4: =Bestillingsskjema!B$46 -> 0 | I4: =Bestillingsskjema!B$48 -> 0
A5: =Bestillingsskjema!A26 -> 0 | B5: =Bestillingsskjema!B26 -> 0 | C5: =Bestillingsskjema!#REF! -> #REF! | D5: =Bestillingsskjema!C25 -> 0 | E5: =Bestillingsskjema!D25 -> 0 | F5: =Bestillingsskjema!E25 -> 0 | G5: =Bestillingsskjema!G25 -> NOK | H5: =Bestillingsskjema!B$46 -> 0 | I5: =Bestillingsskjema!B$48 -> 0
A6: =Bestillingsskjema!A27 -> 0 | B6: =Bestillingsskjema!B27 -> 0 | C6: =Bestillingsskjema!#REF! -> #REF! | D6: =Bestillingsskjema!C26 -> 0 | E6: =Bestillingsskjema!D26 -> 0 | F6: =Bestillingsskjema!E26 -> 0 | G6: =Bestillingsskjema!G26 -> NOK | H6: =Bestillingsskjema!B$46 -> 0 | I6: =Bestillingsskjema!B$48 -> 0
A7: =Bestillingsskjema!A31 -> 0 | B7: =Bestillingsskjema!B31 -> 0 | C7: =Bestillingsskjema!#REF! -> #REF! | D7: =Bestillingsskjema!C27 -> 0 | E7: =Bestillingsskjema!D27 -> 0 | F7: =Bestillingsskjema!E27 -> 0 | G7: =Bestillingsskjema!G27 -> NOK | H7: =Bestillingsskjema!B$46 -> 0 | I7: =Bestillingsskjema!B$48 -> 0
A8: =Bestillingsskjema!A32 -> 0 | B8: =Bestillingsskjema!B32 -> 0 | C8: =Bestillingsskjema!#REF! -> #REF! | D8: =Bestillingsskjema!C28 -> 0 | E8: =Bestillingsskjema!D28 -> 0 | F8: =Bestillingsskjema!E28 -> 0 | G8: =Bestillingsskjema!G28 -> NOK | H8: =Bestillingsskjema!B$46 -> 0 | I8: =Bestillingsskjema!B$48 -> 0
A9: =Bestillingsskjema!A33 -> 0 | B9: =Bestillingsskjema!B33 -> 0 | C9: =Bestillingsskjema!#REF! -> #REF! | D9: =Bestillingsskjema!C29 -> 0 | E9: =Bestillingsskjema!D29 -> 0 | F9: =Bestillingsskjema!E29 -> 0 | G9: =Bestillingsskjema!G29 -> NOK | H9: =Bestillingsskjema!B$46 -> 0 | I9: =Bestillingsskjema!B$48 -> 0
A10: =Bestillingsskjema!#REF! -> #REF! | B10: =Bestillingsskjema!#REF! -> #REF! | C10: =Bestillingsskjema!#REF! -> #REF! | D10: =Bestillingsskjema!C30 -> 0 | E10: =Bestillingsskjema!D30 -> 0 | F10: =Bestillingsskjema!E30 -> 0 | G10: =Bestillingsskjema!G30 -> NOK | H10: =Bestillingsskjema!B$46 -> 0 | I10: =Bestillingsskjema!B$48 -> 0
A11: =Bestillingsskjema!A35 -> 0 | B11: =Bestillingsskjema!B35 -> 0 | C11: =Bestillingsskjema!#REF! -> #REF! | D11: =Bestillingsskjema!C31 -> 0 | E11: =Bestillingsskjema!D31 -> 0 | F11: =Bestillingsskjema!E31 -> 0 | G11: =Bestillingsskjema!G31 -> NOK | H11: =Bestillingsskjema!B$46 -> 0 | I11: =Bestillingsskjema!B$48 -> 0
A12: =Bestillingsskjema!#REF! -> #REF! | B12: =Bestillingsskjema!#REF! -> #REF! | C12: =Bestillingsskjema!#REF! -> #REF! | D12: =Bestillingsskjema!C32 -> 0 | E12: =Bestillingsskjema!D32 -> 0 | F12: =Bestillingsskjema!E32 -> 0 | G12: =Bestillingsskjema!G32 -> NOK | H12: =Bestillingsskjema!B$46 -> 0 | I12: =Bestillingsskjema!B$48 -> 0
A13: =Bestillingsskjema!A33 -> 0 | B13: =Bestillingsskjema!B33 -> 0 | C13: =Bestillingsskjema!#REF! -> #REF! | D13: =Bestillingsskjema!C33 -> 0 | E13: =Bestillingsskjema!D33 -> 0 | F13: =Bestillingsskjema!E33 -> 0 | G13: =Bestillingsskjema!G33 -> NOK | H13: =Bestillingsskjema!B$46 -> 0 | I13: =Bestillingsskjema!B$48 -> 0
A14: =Bestillingsskjema!A34 -> 0 | B14: =Bestillingsskjema!B34 -> 0 | C14: =Bestillingsskjema!#REF! -> #REF! | D14: =Bestillingsskjema!C34 -> 0 | E14: =Bestillingsskjema!D34 -> 0 | F14: =Bestillingsskjema!E34 -> 0 | G14: =Bestillingsskjema!G34 -> NOK | H14: =Bestillingsskjema!B$46 -> 0 | I14: =Bestillingsskjema!B$48 -> 0
A15: =Bestillingsskjema!A35 -> 0 | B15: =Bestillingsskjema!B35 -> 0 | C15: =Bestillingsskjema!#REF! -> #REF! | D15: =Bestillingsskjema!C35 -> 0 | E15: =Bestillingsskjema!D35 -> 0 | F15: =Bestillingsskjema!E35 -> 0 | G15: =Bestillingsskjema!G35 -> NOK | H15: =Bestillingsskjema!B$46 -> 0 | I15: =Bestillingsskjema!B$48 -> 0
