Workbook

Sheet 1. Innledning
A1: Risikovurdering
A3: Enhet: | B3: Beskriv enhet
A4: Dato: | B4: 46288
A5: Versjon: | B5: 1
A6: Ansvarlig leder: | B6: Nærmeste personalleder for labroatoriet/ene
A7: Fasilitator: | B7: Oppgi navn(en eller flere)
A8: Deltagere: | B8: Oppgi navn(en eller flere). Verneombud eller ansattrepresentant må medvirke
A9: Formål: | B9: Alle laboratorier skal ha en overordnet risikovurdering, som skal fremheve de farene ansatte kan utsettes for. Denne risikovurderingen gjelder følgende rom
A10: Avgrensning: | B10: Dette er en overordnet risikovurdering for rommene beskrevet ovenfor. Det vil gjøres revisjon Risikovurderingen forutsetter at byggsystemene - alarmer, ventilasjon, strøm, fungerer som normalt. Risikovurderingen tar ikke ikke hensyn til risiko knyttet til frafall av strøm, venilasjon, vann, gass, osv.
A11: Beskrivelse av objektet for risikovurderingen: | B11: Beskriv bygget (e.g. GA24 - LVB - Livsvitenskapsbygningen
A12: Metode: | B12: Metoden for risikovurderingen er basert på risikovurderingsstandarden NS 5814. Denne risikovurderingen fokuserer utelukkende på risikoer som påvirker menneskers liv og helse.
A13: Gjennomføring: | B13: Møte 1 - oppgi dato Møte 2 - oppgi dato
A14: Medvirkning: | B14: møter/epost - alle ansatte informeres på seksjonsmøte/labmøte/ny ansatt/epsot
A15: Kommentar: | B15: Risikovurderingen ble sist oppdatert- oppgi dato

Sheet 2. Kategorier
A1: Kategorier for sannsynlighet og konsekvens
A3: Ved vurderingen av risiko har vi bruk de følgende kategoriene for å beskrive sannsynlighet og konsekvens.
A5: Konsekvenser
A6: Konsekvens | B6: Beskrivelse av konsekvensene
A7: =Lister!D1 -> Lav | B7: Få eller ingen skader knyttet til bruk/eksponering av biologiske, kjemiske og/eller fysiske faktorer
A8: =Lister!D2 -> Middels | B8: Alvorlige skader/uhell knyttet til bruk/eksponering av biologiske, kjemiske og/eller fysiske faktorer
A9: =Lister!D3 -> Høy | B9: Vedvarende skader og yrkessykdom knyttet til bruk/eksponering av biologiske, kjemiske og/eller fysiske faktorer
A12: Sannsynligheter
A13: Sannsynlighet | B13: Hvor sannsynlig er det at det skjer i løpet av et år
A14: =Lister!C1 -> Lav | B14: Selv om det er mulig at det kan skje, er det lite sannsynlig. Under 10% sannsynlighet for at det vil skje i løpet av ett år.
A15: =Lister!C2 -> Middels | B15: Det er sannsynlig at det kan skje, men det er mer sannsynlig at det ikke skjer. Mellom 10-50% sannsynlighet for at det vil skje i løpet av ett år.
A16: =Lister!C3 -> Høy | B16: Det er mer sannsynlig at det skjer, enn at det ikke skjer. Over 50% sannsynlighet for at det vil skje i løpet av ett år.

Sheet 3. Risikomatrise
A1: Risikomatrise
A3: Risiko er en kombinasjon av sannsynlighetene og konsekvensene som er beskrevet. Risikoakseptkriteriene beskriver hvilke av disse kombinasjonene som kan aksepteres under gitte forutsetninger. Vi har tre nivåer av risiko: Høy: Risikoen angis med rødt i matrisen under. Høy risiko kan ikke aksepteres, det skal alltid settes inn tiltak som minimum bringer risikoen ned til gult nivå. Middels: Risikoen angis med gult i matrisen under. Middels risiko kan aksepteres dersom man har satt inn tiltak for å forsøke å redusere risikoen så langt som praktisk mulig. Lav: Risikoen angis med grønt i matrisen under. Lav risiko kan aksepteres uten at det settes inn tiltak. Det anbefales like vel at enkle tiltak vurderes der det er mulig å redusere risikoen ytterligere. For denne risikovurderingen er risikomatrisen under valgt.
B5: Risiko | D5: Konsekvens
D6: =Lister!D1 -> Lav | E6: =Lister!D2 -> Middels | F6: =Lister!D3 -> Høy
B7: Sannsynlighet | C7: =Lister!C3 -> Høy | D7: Middels | E7: Høy | F7: Høy
C8: =Lister!C2 -> Middels | D8: Lav | E8: Middels | F8: Høy
C9: =Lister!C1 -> Lav | D9: Lav | E9: Lav | F9: Middels

Sheet 4. Risikovurdering
A1: Risikovurdering
A3: RISIKOVURDERING
B4: ANALYSE | K4: VURDERING ETTER NYE TILTAK
A5: ID | B5: Beskriv hendelsen (hva kan skje) | C5: Beskriv årsakene til hendelsen | D5: Beskriv konsekvensene av hendelsen | E5: Beskriv eksisterende tiltak | F5: Konsekvens | G5: Sannsynlighet | H5: Begrunnelse for sannsynlighet | I5: Risiko | J5: ID | K5: Forslag til nye tiltak | L5: Konsekvens | M5: Sannsynlighet | N5: Risiko
B6: Hva kan inntreffe basert på enhetens oppgaver, aktiviteter, funksjon og lokasjon? | C6: Er det noen sårbarheter i enhetens arbeidsmiljø som kan forårsake hendelsen? | D6: Hva er konsekvensen for enkeltpersoners fysiske og psykiske helse og arbeidsmiljøet dersom dette skjer? | E6: Forebyggende og skadebegrensende Hva gjør vi nå som forhindrer at dette skal skje og at konsekvensene ikke skal bli store hvis det likevel skjer. | H6: Hvorfor mener dere at sannsynliggheten er så stor som den er? er det at årsaken utløser hendelsen og fører til den angitte konsekvensen? | K6: Forebyggende og skadebegrensende
A7: 1 | B7: Ansatte utsettes for kjemikalier som kan utgjøre en fare for arbeidstakeres sikkerhet og helse: kreftfremkallende, mutagene og forplantningsskadelige (CMR) bly eller blyforbindelser brannfarlige, oksiderende, eksplosive giftige kjemikalier etsende kjemikalier gasser: gass under trykk, flytende, CO2-anlegg, brannfarlige, O2 fortrengende etc. miljøskadelige kjemikalier allergifremkallende (kjemiske) | C7: Manglende/feil bruk av: Opplæring, Risikovurdering, SJA, verneinstallasjoner, labfrakk/briller/hansker, riktig avfallshåndering, merking av lab, stoffkartotek/Sikkerhetsdatablad, egnet lagring av kjemikalier, uhell, feil håndtering, | D7: Skader på hud, øyene, forbigående forgiftninger, sykdom som følge av eksponering, | E7: Opplæring, Risikovurdering, SJA, verneinstallasjoner, avfall, opplæring, merking av lab, oppdatert stoffkartotek med eksponeringsregister for ansatte, egnet lagring av kjemikalier, MHU for alle som jobber med BLY, alle CMR stoffer oppbevares og brukes i eget rom (eg. 006N087), CMR stoffer oppbevares i kjemiklaieskap med avsug, brannfarlige kjemiklaier oppbevares i egne brannsikre skap kjemikalieskap med avsug, Årlig kontroll av avtrekksksap | F7: Middels | G7: Lav | H7: Stryk det som ikke passer eller legg til: Ikke aktuelt/Det er lite sannsynlighet for eksponering tilgjengelige avtrekksskap og kjemikalieskap, Opplæring, arbeid med små mengder, bruk av verneutstyr, SJA med relevante datablad. Mengden av kjemikalier som brukes i eksperimenter og i tillaging av løsninger er oftes liten (typisk opptil 100ml). | I7: =IF(OR(F7="", G7=""), "", INDEX('3. Risikomatrise'!$D$7:$F$9, MATCH(G7, '3. Risikomatrise'!$C$7:$C$9, 0), MATCH(F7, '3. Risikomatrise'!$D$6:$F$6, 0) ) ) -> Lav | J7: =A7 -> 1 | K7: Stryk det som ikke passer eller legg til: Ikke aktuelt - ingen KRM stoffer/ hvis KRM stoffer - Substitusjonsvurdering, finnes det kjemiklaier som ikke er i bruk, vurdering av krav til eksponeringsregistrer for alle KRM kjemikalier | L7: Middels | M7: Lav | N7: =IF(OR(L7="", M7=""), "", INDEX('3. Risikomatrise'!$D$7:$F$9, MATCH(M7, '3. Risikomatrise'!$C$7:$C$9, 0), MATCH(L7, '3. Risikomatrise'!$D$6:$F$6, 0) ) ) -> Lav
A8: 2 | B8: Ansatte eksponeres for giftig eller kvelende gass (list alle aktuelle gasser som NH3 og CO) | C8: Stryk det som ikke passer: Feilkobling av gass til instrument, lekkasje på føring fra gassforsyningspunkt til uttakspunkt. Lekkasje på føring fra gassforsyningspunkt til uttakspunkt. Ikke aktuelt | D8: Stryk det som ikke passer: Skader på resperasjonssystem, forgiftninge, alvolig etseskader på hud og øyne, som følge av eksponering. Kvelningsfare. Ikke aktuelt | E8: Beskrive eksisterende tiltakt som følgende /stryk det som ikke passer/legg til: lutfutskiftninger i forhold til definert bruk av rommet. Det er svært lav sannsynlighet for eksponering når all gass håndteres i avtrekk, og gass-uttak allerede er i avtrekkene. Opplæring på bruk av gass. Alle rom med CO har gassdeteksjon. Alarm ved stopp på normalventilasjonssystemet. NH3 har merkbar lukt ved veldig lave konsentrasjoner. O2 sensor på enkelte laboratorier. Risikovurdering, SJA, verneinstallasjoner, opplæring, merking av lab, oppdatert stoffkartotek med eksponeringsregister for ansatte, egnet lagring av gassflasker, avsug på utslipp av gasser fra instrumentasjon, alarmer, | F8: Høy | G8: Lav | H8: Stryk det som ikke passer eller legg til: Ikke aktuelt/Det er lite sannsynlighet for eksponering tilgjengelige avtrekksskap og kjemikalieskap for gass, mekansinemer i gassforsyningsveier, Opplæring, SJA med relevante datablad, alarm/detektor for CO, | I8: =IF(OR(F8="", G8=""), "", INDEX('3. Risikomatrise'!$D$7:$F$9, MATCH(G8, '3. Risikomatrise'!$C$7:$C$9, 0), MATCH(F8, '3. Risikomatrise'!$D$6:$F$6, 0) ) ) -> Middels | J8: =A8 -> 2 | K8: Stryk det som ikke passer eller legg til: Ikke aktuelt/Er det behov for nye rutiner, sniffere for deteksjon av lekkasjer gassforsyning? | L8: Høy | M8: Lav | N8: =IF(OR(L8="", M8=""), "", INDEX('3. Risikomatrise'!$D$7:$F$9, MATCH(M8, '3. Risikomatrise'!$C$7:$C$9, 0), MATCH(L8, '3. Risikomatrise'!$D$6:$F$6, 0) ) ) -> Middels
A9: 3 | B9: Det oppstår brann eller eksplosjon som følge av selvantennende stoffer, eksplosive/brannfarlige kjemikalier/gasser/tennkilder, | C9: Stryk det som ikke passer eller legg til eller skriv "ikke aktuelt" om det ikke jobbes med brann/eksplosjonsfarlige kjemikalier: Feil håndtering og feiloppbevaring av brannfarlige eller eksplosive varer eller stoffer | D9: Stryk det som ikke passer eller legg til: Innhallasjon av brannrøyk. Ved eksplosjon brannskader og andre skader som kutt ol. | E9: Beskrive eksisterende tiltakt som følgende /stryk det som ikke passer/legg til: Brannceller, brannvarlingsystem, sprinkelanlegg, egnet slukkeutstyr, Brannceller etablert, brannvarlingsystem, egnet slukkeutstyr, opplæring, SJA, håndtering av pyrofore stoffer og brannfarlige kjemikalier skal utarbeides. Det er nøddusj i umiddelbar nærhet. Disse stoffene håndteres i avtrekkskap i stål (ikke brennbare), og stoffene oppbevares i henhold til kompatabilitetsregler. | F9: Middels | G9: Lav | H9: Stryk det som ikke passer eller legg til: Ikke aktuelt/Opplæring brannvern. Med eksistende tiltak er det lite sannsynlig for start og utvikling av brann eksponering for brannrøyk er derfor lite sannsynlig. | I9: =IF(OR(F9="", G9=""), "", INDEX('3. Risikomatrise'!$D$7:$F$9, MATCH(G9, '3. Risikomatrise'!$C$7:$C$9, 0), MATCH(F9, '3. Risikomatrise'!$D$6:$F$6, 0) ) ) -> Lav | J9: =A9 -> 3 | K9: Sjekke at slukkeutstyret er egnet til typer brannvarlig vare. Ny rutine for håndtering av brannfarlig avfall. | L9: Middels | M9: Lav | N9: =IF(OR(L9="", M9=""), "", INDEX('3. Risikomatrise'!$D$7:$F$9, MATCH(M9, '3. Risikomatrise'!$C$7:$C$9, 0), MATCH(L9, '3. Risikomatrise'!$D$6:$F$6, 0) ) ) -> Lav
A10: 4 | B10: Ansatte eksponeres for flyss-syre | C10: Stryk det som ikke passer eller legg til eller skriv "ikke aktuelt" om det ikke jobbes med flussyre | D10: Beskrive konsekvensene eller skrive ikke aktuelt om det ikke jobbes ned flussyre | E10: Beskrive eksisterende tiltakt som følgende/stryk det som ikke passer/legg til, eller skrive ikke aktuelt om det ikke jobbes ned flussyre | H10: Beskriv eller skriv Ikke aktuelt | I10: =IF(OR(F10="", G10=""), "", INDEX('3. Risikomatrise'!$D$7:$F$9, MATCH(G10, '3. Risikomatrise'!$C$7:$C$9, 0), MATCH(F10, '3. Risikomatrise'!$D$6:$F$6, 0) ) ) | J10: =A10 -> 4 | N10: =IF(OR(L10="", M10=""), "", INDEX('3. Risikomatrise'!$D$7:$F$9, MATCH(M10, '3. Risikomatrise'!$C$7:$C$9, 0), MATCH(L10, '3. Risikomatrise'!$D$6:$F$6, 0) ) )
A11: 5 | B11: Ansatte utsettes for brann og helseskade grunnet pyroforiske | C11: Stryk det som ikke passer eller legg til eller skriv "ikke aktuelt" om det ikke jobbes med pyroforiske stoffer: Feil håndtering og feiloppbevaring av pyroforiske stoffer | D11: Stryk det som ikke passer eller legg til eller skriv "ikke aktuelt" om det ikke jobbes ned pyroforiske stoffer: Innhallasjon av brannrøyk. Ved eksplosjon brannskader og andre skader som kutt ol. | E11: Beskrive eksisterende tiltakt som følgende/stryk det som ikke passer/legg til, eller skrive ikke aktuelt om det ikke jobbes med pyroforiske stoffer: | H11: Beskriv eller skriv Ikke aktuelt | I11: =IF(OR(F11="", G11=""), "", INDEX('3. Risikomatrise'!$D$7:$F$9, MATCH(G11, '3. Risikomatrise'!$C$7:$C$9, 0), MATCH(F11, '3. Risikomatrise'!$D$6:$F$6, 0) ) ) | J11: =A11 -> 5 | N11: =IF(OR(L11="", M11=""), "", INDEX('3. Risikomatrise'!$D$7:$F$9, MATCH(M11, '3. Risikomatrise'!$C$7:$C$9, 0), MATCH(L11, '3. Risikomatrise'!$D$6:$F$6, 0) ) )
A12: 6 | B12: Ansatte utsettes for sterke syrer eller baser | C12: Stryk det som ikke passer eller legg til eller skriv "ikke aktuelt" om det ikke jobbes med sterke syrer / baser: Feil håndtering eller lagring | D12: Stryk det som ikke passer eller legg til eller skriv "ikke aktuelt" om det ikke jobbes med sterke syrer / baser: Etseskader | E12: Beskrive eksisterende tiltakt som følgende/stryk det som ikke passer/legg til, eller skrive ikke aktuelt om det ikke jobbes ned sterke syrer / baser | H12: Beskriv eller skriv Ikke aktuelt | I12: =IF(OR(F12="", G12=""), "", INDEX('3. Risikomatrise'!$D$7:$F$9, MATCH(G12, '3. Risikomatrise'!$C$7:$C$9, 0), MATCH(F12, '3. Risikomatrise'!$D$6:$F$6, 0) ) ) | J12: =A12 -> 6 | N12: =IF(OR(L12="", M12=""), "", INDEX('3. Risikomatrise'!$D$7:$F$9, MATCH(M12, '3. Risikomatrise'!$C$7:$C$9, 0), MATCH(L12, '3. Risikomatrise'!$D$6:$F$6, 0) ) )
A13: 7 | B13: Ansatte eksponeres for akutt dødelige kjemikalier (ved innnånding H330), kreftfremkallende (H340, H350, H360) | C13: Stryk det som ikke passer eller legg til eller skriv "ikke aktuelt" om det ikke jobbes med akutt dødelige kjemikalier (ved innnånding H330), kreftfremkallende (H340, H350, H360): Stryk det som ikke passer eller legg til eller skriv "ikke aktuelt" om det ikke jobbes med sterke syrer / baser: Feil håndtering eller lagring | D13: Stryk det som ikke passer eller legg til eller skriv "ikke aktuelt" om det ikke jobbes med akutt dødelige kjemikalier (ved innnånding H330), kreftfremkallende (H340, H350, H360): Skader på hud, øyene, forbigående forgiftninger, sykdom som følge av eksponering, død | E13: Beskrive eksisterende tiltakt som følgende/stryk det som ikke passer/legg til, eller skrive ikke aktuelt om det ikke jobbes ned flussyre | H13: Stryk det som ikke passer eller legg til: Ikke aktuelt/Det er lite sannsynlighet for eksponering, tilgjengelige avtrekksskap og kjemikalieskap, Opplæring, bruk av verneutstyr, SJA med relevante datablad. Mengden av kjemikalier som brukes i eksperimenter og i tillaging av løsninger er oftes liten (typsik opptil 100ml). | I13: =IF(OR(F13="", G13=""), "", INDEX('3. Risikomatrise'!$D$7:$F$9, MATCH(G13, '3. Risikomatrise'!$C$7:$C$9, 0), MATCH(F13, '3. Risikomatrise'!$D$6:$F$6, 0) ) ) | J13: =A13 -> 7 | N13: =IF(OR(L13="", M13=""), "", INDEX('3. Risikomatrise'!$D$7:$F$9, MATCH(M13, '3. Risikomatrise'!$C$7:$C$9, 0), MATCH(L13, '3. Risikomatrise'!$D$6:$F$6, 0) ) )
A14: 8 | B14: Ansattes utsettes for ioniserende stråling: radioaktive kilder, røntgenapparater eller akselerator eller Åpne radioaktive kilder Åpne radioaktive kilder C-14 eller H-3 på C-laboratoriene (034N022,034N016, 034N014) | C14: Stryk det som ikke passer eller legg til: Ikke aktuelt/Manglende/feil bruk av: Opplæring, Risikovurdering, SJA, verneinstallasjoner, labfrakk/briller/hansker, avfallshåndering, merking av lab, uhell, feil håndtering. | D14: Stryk det som ikke passer eller legg til: Ikke aktuelt/Søl og eksponering på hud og arbeidsflater | E14: Stryk det som ikke passer eller legg til: Ikke aktuelt/Opplæring, bruk av verneutstyr, SJA med relevante datablad, adgangskontroll. Meldt og godkjent av DSA | H14: Stryk det som ikke passer eller legg til: Ikke aktuelt/Det er lite sannsynlighet for eksponering, tilgjengelige avtrekksskap og kjemikalieskap, Opplæring, bruk av verneutstyr, SJA med relevante datablad. Adgangskontroll. | I14: =IF(OR(F14="", G14=""), "", INDEX('3. Risikomatrise'!$D$7:$F$9, MATCH(G14, '3. Risikomatrise'!$C$7:$C$9, 0), MATCH(F14, '3. Risikomatrise'!$D$6:$F$6, 0) ) ) | J14: =A14 -> 8 | N14: =IF(OR(L14="", M14=""), "", INDEX('3. Risikomatrise'!$D$7:$F$9, MATCH(M14, '3. Risikomatrise'!$C$7:$C$9, 0), MATCH(L14, '3. Risikomatrise'!$D$6:$F$6, 0) ) )
A15: 9 | B15: Ansattes utsettes for ikke ioniserinde stråling: UV-C laser klasse 3b, 3r eller 4 infrarød stråling elektromagnetiske felt | C15: Stryk det som ikke passer eller legg til: Ikke aktuelt/Manglende/feil bruk av: Opplæring, Risikovurdering, SJA, verneinstallasjoner, labfrakk/briller/hansker, merking av lab, uhell, feil håndtering. | D15: Stryk det som ikke passer eller legg til: Ikke aktuelt/Yrkesskade som følge av eksponering, øyeskader, forbrenninger, hudskreft, etc. | E15: Stryk det som ikke passer eller legg til: Ikke aktuelt/Opplæring, bruk av verneutstyr, SJA, merking av lab, Romsensor som slår UV-C av. | H15: Stryk det som ikke passer eller legg til: Ikke aktuelt/Det er lite sannsynlighet for eksponering grunnet bevegslsessensor og merking av lab ved bruk av UV-C | I15: =IF(OR(F15="", G15=""), "", INDEX('3. Risikomatrise'!$D$7:$F$9, MATCH(G15, '3. Risikomatrise'!$C$7:$C$9, 0), MATCH(F15, '3. Risikomatrise'!$D$6:$F$6, 0) ) ) | J15: =A15 -> 9 | K15: Sikkerhetsmekanismer /interlock sytemer/alarm- ikke mulig å gå inn i rom med UV-C, aktive instrumenter ol. Substitisjon - UV-C lamper i lukkete system - e.g. Geldoc ol. | L15: Middels | M15: Lav | N15: =IF(OR(L15="", M15=""), "", INDEX('3. Risikomatrise'!$D$7:$F$9, MATCH(M15, '3. Risikomatrise'!$C$7:$C$9, 0), MATCH(L15, '3. Risikomatrise'!$D$6:$F$6, 0) ) ) -> Lav
A16: 10 | B16: Ansatte eksponeres for smittefarlige biologiske faktorer: GMO allergener (planter, dyr) virus/bakterier/parasitter giftige organismer (mugg)sopp/soppsporer/mykotoksiner. Det jobbes med BSL1, BSL2, GMM1 og GMM2 organismer og cellelinjer. | C16: Stryk det som ikke passer eller legg til: Ikke aktuelt/Manglende/feil bruk av: Opplæring, Risikovurdering, SJA, verneinstallasjoner, labfrakk/briller/hansker, avfallshåndering, merking av lab, uhell, feil håndtering, | D16: Stryk det som ikke passer eller legg til: Ikke aktuelt/Forbigående sykdom, som kan behandles med Ab, Yrkesskade som følge av kronisk infeksjon, | E16: Stryk det som ikke passer eller legg til: Ikke aktuelt/Opplæring, Risikovurdering, SJA, verneinstallasjoner for BSCII, riktig avfallshåndtering, opplæring, merking av lab, meldt og godkjent til AT og HD | F16: Middels | G16: Lav | H16: Stryk det som ikke passer eller legg til: Ikke aktuelt/Det er lite sannsynlighet for uhell, all arbeid med smittefarlige biologiske faktorer skjer i sikkerhetsbenker, gode hygiene og sikkerhetstiltak. | I16: =IF(OR(F16="", G16=""), "", INDEX('3. Risikomatrise'!$D$7:$F$9, MATCH(G16, '3. Risikomatrise'!$C$7:$C$9, 0), MATCH(F16, '3. Risikomatrise'!$D$6:$F$6, 0) ) ) -> Lav | J16: =A16 -> 10 | N16: =IF(OR(L16="", M16=""), "", INDEX('3. Risikomatrise'!$D$7:$F$9, MATCH(M16, '3. Risikomatrise'!$C$7:$C$9, 0), MATCH(L16, '3. Risikomatrise'!$D$6:$F$6, 0) ) )
A17: 11 | B17: Fysiske risikofaktorer utgjør en fare for arbeidstakeres sikkerhet og helse: arbeid med lavspent (strøm, enkelte forskningsinstrumenter) arbeid med høyspent | C17: Stryk det som ikke passer eller legg til: Ikke aktuelt/Manglende/feil bruk av: Opplæring, Risikovurdering, SJA, verneinstallasjoner, labfrakk/briller/hansker, riktig avfallshåndering, merking av lab, uhell, feil håndtering, | D17: Støt, strømgjennomgang, | E17: Vedlikeholdsavtaler for instrumenter, hjemmelaget utstyr har ikke samme sikkerhetstiltak, | H17: Stryk det som ikke passer eller legg til: Ikke aktuelt/Det er lite sannsynlighet for uhell, all arbeid med smittefarlige biologiske faktorer skjer i sikkerhetsbenker, gode hygiene og sikkerhetstiltak. | I17: =IF(OR(F17="", G17=""), "", INDEX('3. Risikomatrise'!$D$7:$F$9, MATCH(G17, '3. Risikomatrise'!$C$7:$C$9, 0), MATCH(F17, '3. Risikomatrise'!$D$6:$F$6, 0) ) ) | J17: =A17 -> 11 | K17: Vurdere sikkerhet tiltak og rutiner for egenproduserte instrumenter | N17: =IF(OR(L17="", M17=""), "", INDEX('3. Risikomatrise'!$D$7:$F$9, MATCH(M17, '3. Risikomatrise'!$C$7:$C$9, 0), MATCH(L17, '3. Risikomatrise'!$D$6:$F$6, 0) ) )
A18: 12 | B18: Fysiske risikofaktorer utgjør en fare for arbeidstakeres sikkerhet og helse: luftbåren helseskadelig støy over grenseverdier - arbeid med støyende maskiner/utstyr plagsom/sjenerende luftbåren støy eks. støy i landskapet lavfrekvent støy | C18: Stryk det som ikke passer eller legg til: Ikke aktuelt/På laboratorier er grensen 70 dBA som generell støy, med unntak av instrumentrom der det er egne grenser. PÅ undervisningslaboratorier er grensen lavere da man også er avhenign av å høre instruksjoner | D18: Stryk det som ikke passer eller legg til: Ikke aktuelt/Fysiske og psykiske plager som nødvendigvis ikke gir varlig hørselskader. Generende støy som påvirker konsentrasjon, arbeidsevne og produktiviet. Hørselskade | E18: Stryk det som ikke passer eller legg til: Ikke aktuelt/Hørselvern. Støyrom for pumper. Støykabinetter for særlig støyende pumper. Hørselvern. | F18: Middels | H18: Ingen/få støykilder/Lite bruk av sentrifuge og sonikatopr | I18: =IF(OR(F18="", G18=""), "", INDEX('3. Risikomatrise'!$D$7:$F$9, MATCH(G18, '3. Risikomatrise'!$C$7:$C$9, 0), MATCH(F18, '3. Risikomatrise'!$D$6:$F$6, 0) ) ) | J18: =A18 -> 12 | K18: Mistanke om at grense er overskrides (avdekket gjennom støymåling fra BHT) må der vurderes nye tiltak. | N18: =IF(OR(L18="", M18=""), "", INDEX('3. Risikomatrise'!$D$7:$F$9, MATCH(M18, '3. Risikomatrise'!$C$7:$C$9, 0), MATCH(L18, '3. Risikomatrise'!$D$6:$F$6, 0) ) )
A19: 13 | B19: Ansatte får muskel og skjellettskader - ergonomi lab | C19: Stryk det som ikke passer eller legg til: Ikke aktuelt/Enforming arbeid, uheldig arbeidsstillinger, mangel på pauser, tunge løft, dårlig, manglende eller feil bruk av belysning | D19: Stryk det som ikke passer eller legg til: Ikke aktuelt/Muskel og skjellettplager, hodepine | E19: Stryk det som ikke passer eller legg til: Ikke aktuelt/Det finnes hev og senk arbeidsbenk og avtrekksskap på de fleste hovedlaboratoriene. Det er forskjellige ergonomiske laboratoriestoler, slik at man kan variere sittestilling | F19: Middels | H19: Stryk det som ikke passer eller legg til: Ikke aktuelt/Få ansatte har rutinerpreget arbeid på lab over lengre tid | I19: =IF(OR(F19="", G19=""), "", INDEX('3. Risikomatrise'!$D$7:$F$9, MATCH(G19, '3. Risikomatrise'!$C$7:$C$9, 0), MATCH(F19, '3. Risikomatrise'!$D$6:$F$6, 0) ) ) | J19: =A19 -> 13 | K19: Etablere nye rutiner for pauser, ergonomisk opplæring på lab, | N19: =IF(OR(L19="", M19=""), "", INDEX('3. Risikomatrise'!$D$7:$F$9, MATCH(M19, '3. Risikomatrise'!$C$7:$C$9, 0), MATCH(L19, '3. Risikomatrise'!$D$6:$F$6, 0) ) )
A20: 14 | B20: Ansatte eksponeres for flytende nitrogen | C20: Stryk det som ikke passer eller legg til: Ikke aktuelt/Feil håndtering av flytende nitrogen, bruk av nitrogen i arealer som ikke er tilpasset for bruken/ikke har tilstrekkelig ventilasjon. | D20: Stryk det som ikke passer eller legg til: Ikke aktuelt/frostskader og kveling som følge av eksponering, | E20: Stryk det som ikke passer eller legg til: Ikke aktuelt/Opplæring, Risikovurdering, SJA, verneinstallasjoner, avfall, opplæring, merking av lab, oppdatert stoffkartotek med eksponeringsregister for ansatte, egnet lagring av kjemikalier, avsug på utslipp av gasser fra instrumentasjon, alarmer, Tilstrekkelig lutfutskiftninger i forhold til definert bruk av rommet. Verneutstyr - påbud bruk av verneklær, vernehandsker og visir, ved håntering av store mengder flytende nitrogen, som ved flylling av tanker ol. Verneutstyr - påbud bruk av egnete hansker, lab frakk og briller håntering av små mengder flytende nitrogen, som ved eksperimenter ol i lab som beskrevet i rutine eller SJA. Opplæring, Risikovurdering, SJA, verneinstallasjoner, opplæring, merking av lab, oppdatert stoffkartotek med eksponeringsregister for ansatte. | F20: Middels | H20: Det er ikke aktuelt å bruke flytende nitrogen i dette arealet, og det er lite sannsynlighet for eksponering tilgjengelige avtrekksskap og kjemikalieskap for gass, mekansinemer i gassforsyningsveier, Opplæring, SJA med relevante datablad, | I20: =IF(OR(F20="", G20=""), "", INDEX('3. Risikomatrise'!$D$7:$F$9, MATCH(G20, '3. Risikomatrise'!$C$7:$C$9, 0), MATCH(F20, '3. Risikomatrise'!$D$6:$F$6, 0) ) ) | J20: =A20 -> 14 | N20: =IF(OR(L20="", M20=""), "", INDEX('3. Risikomatrise'!$D$7:$F$9, MATCH(M20, '3. Risikomatrise'!$C$7:$C$9, 0), MATCH(L20, '3. Risikomatrise'!$D$6:$F$6, 0) ) )
A21: 15 | B21: Fysiske risikofaktorer utgjør en fare for arbeidstakeres sikkerhet og helse: vibrasjoner som forplanter seg i bygningskropp (strukturstøy) fra eksempelvis ventilasjonsanlegg, kompressorer, pumper (maskinrom, laboratorier etc). | C21: Stryk det som ikke passer eller legg til: Ikke aktuelt/Bruk av vibrerende verktøy - hånd og arm grenseverdi 5 m/s2, tiltaksverdien er 2.5 m/s2 støyende instrumenter. | D21: Beskriv eller skriv "ikke aktuelt" | E21: Beskriv eller skriv "ikke aktuelt" | H21: Beskriv eller skriv "ikke aktuelt" | I21: =IF(OR(F21="", G21=""), "", INDEX('3. Risikomatrise'!$D$7:$F$9, MATCH(G21, '3. Risikomatrise'!$C$7:$C$9, 0), MATCH(F21, '3. Risikomatrise'!$D$6:$F$6, 0) ) ) | J21: =A21 -> 15 | N21: =IF(OR(L21="", M21=""), "", INDEX('3. Risikomatrise'!$D$7:$F$9, MATCH(M21, '3. Risikomatrise'!$C$7:$C$9, 0), MATCH(L21, '3. Risikomatrise'!$D$6:$F$6, 0) ) )
A22: 16 | I22: =IF(OR(F22="", G22=""), "", INDEX('3. Risikomatrise'!$D$7:$F$9, MATCH(G22, '3. Risikomatrise'!$C$7:$C$9, 0), MATCH(F22, '3. Risikomatrise'!$D$6:$F$6, 0) ) ) | J22: =A22 -> 16 | N22: =IF(OR(L22="", M22=""), "", INDEX('3. Risikomatrise'!$D$7:$F$9, MATCH(M22, '3. Risikomatrise'!$C$7:$C$9, 0), MATCH(L22, '3. Risikomatrise'!$D$6:$F$6, 0) ) )
A23: 17 | I23: =IF(OR(F23="", G23=""), "", INDEX('3. Risikomatrise'!$D$7:$F$9, MATCH(G23, '3. Risikomatrise'!$C$7:$C$9, 0), MATCH(F23, '3. Risikomatrise'!$D$6:$F$6, 0) ) ) | J23: =A23 -> 17 | N23: =IF(OR(L23="", M23=""), "", INDEX('3. Risikomatrise'!$D$7:$F$9, MATCH(M23, '3. Risikomatrise'!$C$7:$C$9, 0), MATCH(L23, '3. Risikomatrise'!$D$6:$F$6, 0) ) )
A24: 18 | I24: =IF(OR(F24="", G24=""), "", INDEX('3. Risikomatrise'!$D$7:$F$9, MATCH(G24, '3. Risikomatrise'!$C$7:$C$9, 0), MATCH(F24, '3. Risikomatrise'!$D$6:$F$6, 0) ) ) | J24: =A24 -> 18 | N24: =IF(OR(L24="", M24=""), "", INDEX('3. Risikomatrise'!$D$7:$F$9, MATCH(M24, '3. Risikomatrise'!$C$7:$C$9, 0), MATCH(L24, '3. Risikomatrise'!$D$6:$F$6, 0) ) )
A25: 19 | I25: =IF(OR(F25="", G25=""), "", INDEX('3. Risikomatrise'!$D$7:$F$9, MATCH(G25, '3. Risikomatrise'!$C$7:$C$9, 0), MATCH(F25, '3. Risikomatrise'!$D$6:$F$6, 0) ) ) | J25: =A25 -> 19 | N25: =IF(OR(L25="", M25=""), "", INDEX('3. Risikomatrise'!$D$7:$F$9, MATCH(M25, '3. Risikomatrise'!$C$7:$C$9, 0), MATCH(L25, '3. Risikomatrise'!$D$6:$F$6, 0) ) )
A26: 20 | I26: =IF(OR(F26="", G26=""), "", INDEX('3. Risikomatrise'!$D$7:$F$9, MATCH(G26, '3. Risikomatrise'!$C$7:$C$9, 0), MATCH(F26, '3. Risikomatrise'!$D$6:$F$6, 0) ) ) | J26: =A26 -> 20 | N26: =IF(OR(L26="", M26=""), "", INDEX('3. Risikomatrise'!$D$7:$F$9, MATCH(M26, '3. Risikomatrise'!$C$7:$C$9, 0), MATCH(L26, '3. Risikomatrise'!$D$6:$F$6, 0) ) )
A27: 21 | I27: =IF(OR(F27="", G27=""), "", INDEX('3. Risikomatrise'!$D$7:$F$9, MATCH(G27, '3. Risikomatrise'!$C$7:$C$9, 0), MATCH(F27, '3. Risikomatrise'!$D$6:$F$6, 0) ) ) | J27: =A27 -> 21 | N27: =IF(OR(L27="", M27=""), "", INDEX('3. Risikomatrise'!$D$7:$F$9, MATCH(M27, '3. Risikomatrise'!$C$7:$C$9, 0), MATCH(L27, '3. Risikomatrise'!$D$6:$F$6, 0) ) )
A28: 22 | I28: =IF(OR(F28="", G28=""), "", INDEX('3. Risikomatrise'!$D$7:$F$9, MATCH(G28, '3. Risikomatrise'!$C$7:$C$9, 0), MATCH(F28, '3. Risikomatrise'!$D$6:$F$6, 0) ) ) | J28: =A28 -> 22 | N28: =IF(OR(L28="", M28=""), "", INDEX('3. Risikomatrise'!$D$7:$F$9, MATCH(M28, '3. Risikomatrise'!$C$7:$C$9, 0), MATCH(L28, '3. Risikomatrise'!$D$6:$F$6, 0) ) )
A29: 23 | I29: =IF(OR(F29="", G29=""), "", INDEX('3. Risikomatrise'!$D$7:$F$9, MATCH(G29, '3. Risikomatrise'!$C$7:$C$9, 0), MATCH(F29, '3. Risikomatrise'!$D$6:$F$6, 0) ) ) | J29: =A29 -> 23 | N29: =IF(OR(L29="", M29=""), "", INDEX('3. Risikomatrise'!$D$7:$F$9, MATCH(M29, '3. Risikomatrise'!$C$7:$C$9, 0), MATCH(L29, '3. Risikomatrise'!$D$6:$F$6, 0) ) )
A31: Hvordan påvirker de forskjellige faktorene som er vurdert hverandre? Beskriv den samlede risikoen.

Sheet 5. Tiltak
A1: Tiltak
A3: Nr | B3: Anbefalte tiltak | C3: Status | D3: Ansvarlig | E3: Frist
A4: 1 | B4: Beskriv tiltak identifisert i ark 4
A5: 2 | B5: Beskriv tiltak identifisert i ark 4
A6: 3 | B6: Beskriv tiltak identifisert i ark 4
A7: 4 | B7: Beskriv tiltak identifisert i ark 4
A8: 5 | B8: Beskriv tiltak identifisert i ark 4
A9: 6 | B9: Beskriv tiltak identifisert i ark 4
A10: 7 | B10: Beskriv tiltak identifisert i ark 4
A11: 8 | B11: Beskriv tiltak identifisert i ark 4
A12: 9 | B12: Beskriv tiltak identifisert i ark 4
A13: 10 | B13: Beskriv tiltak identifisert i ark 4
A15: Leders vurdering av de foreslåtte tiltakene
C21: =IF('1. Innledning'!B6="", "", '1. Innledning'!B6) -> Nærmeste personalleder for labroatoriet/ene

Sheet Lister
A1: Ja | B1: Lav | C1: Lav | D1: Lav | E1: Skal gjennomføres
A2: Nei | B2: Middels | C2: Middels | D2: Middels | E2: Skal ikke gjennomføres
A3: Usikker | B3: Høy | C3: Høy | D3: Høy | E3: Gjennomført
